BEGIN:VCALENDAR
VERSION:2.0
PRODID:-//Marcellus United Methodist Church - ECPv6.15.20//NONSGML v1.0//EN
CALSCALE:GREGORIAN
METHOD:PUBLISH
X-ORIGINAL-URL:https://marcellusumc.org
X-WR-CALDESC:Events for Marcellus United Methodist Church
REFRESH-INTERVAL;VALUE=DURATION:PT1H
X-Robots-Tag:noindex
X-PUBLISHED-TTL:PT1H
BEGIN:VTIMEZONE
TZID:America/New_York
BEGIN:DAYLIGHT
TZOFFSETFROM:-0500
TZOFFSETTO:-0400
TZNAME:EDT
DTSTART:20140309T070000
END:DAYLIGHT
BEGIN:STANDARD
TZOFFSETFROM:-0400
TZOFFSETTO:-0500
TZNAME:EST
DTSTART:20141102T060000
END:STANDARD
BEGIN:DAYLIGHT
TZOFFSETFROM:-0500
TZOFFSETTO:-0400
TZNAME:EDT
DTSTART:20150308T070000
END:DAYLIGHT
BEGIN:STANDARD
TZOFFSETFROM:-0400
TZOFFSETTO:-0500
TZNAME:EST
DTSTART:20151101T060000
END:STANDARD
BEGIN:DAYLIGHT
TZOFFSETFROM:-0500
TZOFFSETTO:-0400
TZNAME:EDT
DTSTART:20160313T070000
END:DAYLIGHT
BEGIN:STANDARD
TZOFFSETFROM:-0400
TZOFFSETTO:-0500
TZNAME:EST
DTSTART:20161106T060000
END:STANDARD
BEGIN:DAYLIGHT
TZOFFSETFROM:-0500
TZOFFSETTO:-0400
TZNAME:EDT
DTSTART:20170312T070000
END:DAYLIGHT
BEGIN:STANDARD
TZOFFSETFROM:-0400
TZOFFSETTO:-0500
TZNAME:EST
DTSTART:20171105T060000
END:STANDARD
BEGIN:DAYLIGHT
TZOFFSETFROM:-0500
TZOFFSETTO:-0400
TZNAME:EDT
DTSTART:20180311T070000
END:DAYLIGHT
BEGIN:STANDARD
TZOFFSETFROM:-0400
TZOFFSETTO:-0500
TZNAME:EST
DTSTART:20181104T060000
END:STANDARD
BEGIN:DAYLIGHT
TZOFFSETFROM:-0500
TZOFFSETTO:-0400
TZNAME:EDT
DTSTART:20190310T070000
END:DAYLIGHT
BEGIN:STANDARD
TZOFFSETFROM:-0400
TZOFFSETTO:-0500
TZNAME:EST
DTSTART:20191103T060000
END:STANDARD
END:VTIMEZONE
BEGIN:VEVENT
DTSTART;TZID=America/New_York:20180708T120000
DTEND;TZID=America/New_York:20180708T140000
DTSTAMP:20260424T104559
CREATED:20160612T210359Z
LAST-MODIFIED:20180701T173220Z
UID:540-1531051200-1531058400@marcellusumc.org
SUMMARY:Sunday School Picnic
DESCRIPTION:Chips\,meat and drink will be provided.  Please bring a taco topping as we will be making walking tacos.    Please RSVP to JFrost @americangranby.com.  Please also indicate what topping you will be bringing so we have a variety. \n 
URL:https://marcellusumc.org/index.php/event/sunday-school-celebration/
LOCATION:Marcellus Park
END:VEVENT
BEGIN:VEVENT
DTSTART;TZID=America/New_York:20180224T170000
DTEND;TZID=America/New_York:20180224T210000
DTSTAMP:20260424T104559
CREATED:20180218T173837Z
LAST-MODIFIED:20180218T173837Z
UID:917-1519491600-1519506000@marcellusumc.org
SUMMARY:Pot Luck Dinner
DESCRIPTION:Bring a dish to pass.  Game night after dinner for those who would like to stay and participate.  Bring cards or a board game you would like to share with the group.
URL:https://marcellusumc.org/index.php/event/pot-luck-dinner/
END:VEVENT
BEGIN:VEVENT
DTSTART;TZID=America/New_York:20171217T150000
DTEND;TZID=America/New_York:20171217T170000
DTSTAMP:20260424T104559
CREATED:20171203T162809Z
LAST-MODIFIED:20171205T213819Z
UID:862-1513522800-1513530000@marcellusumc.org
SUMMARY:Belle Aire Handbell Group
DESCRIPTION:The Belle Aire Handbell Trio will present a concert for everyone on Sunday\, December 17\, at 3 PM in the Marcellus United Methodist Church. This popular group performs on 4½ octaves of English Handbells\, offering music ranging from Bach to The Beatles. The musicians will also talk about the history of handbells\, music production and what it is like to play the instrument. Bring the whole family for this special musical event which is free and after which there will be refreshments. The church is located at 1 Slocombe Ave. in the village.”\n 
URL:https://marcellusumc.org/index.php/event/belle-aire-handbell-group/
LOCATION:MUMC sanctuary
END:VEVENT
BEGIN:VEVENT
DTSTART;TZID=America/New_York:20161124T110000
DTEND;TZID=America/New_York:20161124T120000
DTSTAMP:20260424T104559
CREATED:20151111T040414Z
LAST-MODIFIED:20161120T180657Z
UID:141-1479985200-1479988800@marcellusumc.org
SUMMARY:Thanksgiving Day Touch Football Game
DESCRIPTION:It is nearing that time again.  Time to think about joining us for the annual Thanksgiving Day touch football game.  We will be gathering Thanksgiving morning from 11 am to noon\, rain or shine or snow in Marcellus Park\, upper back portion. \nThis event is for young and old\, kids and adults\, and all that is required is to have fun and work up and appetite! \nPlease consider spending some of your holiday morning at this traditional event.  Call Dave Takach for more information at 673-3248.
URL:https://marcellusumc.org/index.php/event/thanksgiving-day-touch-football-game/
CATEGORIES:Fellowship
END:VEVENT
BEGIN:VEVENT
DTSTART;TZID=America/New_York:20161016T150000
DTEND;TZID=America/New_York:20161016T170000
DTSTAMP:20260424T104559
CREATED:20160917T200755Z
LAST-MODIFIED:20160917T201213Z
UID:585-1476630000-1476637200@marcellusumc.org
SUMMARY:Organ Recital
DESCRIPTION:October 16- Organ Recital with award winning organist Anne Carolyn Wilson. Arts and crafts exhibits by our church members in Wesley Hall.
URL:https://marcellusumc.org/index.php/event/organ-recital/
LOCATION:Marcellus United Methodist Church\, 1 Slocombe Avenue\, Marcellus\, NY\, 13108\, United States
END:VEVENT
BEGIN:VEVENT
DTSTART;TZID=America/New_York:20160813T130000
DTEND;TZID=America/New_York:20160813T150000
DTSTAMP:20260424T104559
CREATED:20160807T160122Z
LAST-MODIFIED:20160807T160122Z
UID:564-1471093200-1471100400@marcellusumc.org
SUMMARY:Praise Music Concert
DESCRIPTION:Free concert by Godspeed on the point!
URL:https://marcellusumc.org/index.php/event/praise-music-concert/
LOCATION:Marcellus United Methodist Church\, 1 Slocombe Avenue\, Marcellus\, NY\, 13108\, United States
END:VEVENT
BEGIN:VEVENT
DTSTART;TZID=America/New_York:20160611T160000
DTEND;TZID=America/New_York:20160611T183000
DTSTAMP:20260424T104559
CREATED:20160527T204208Z
LAST-MODIFIED:20160608T203955Z
UID:530-1465660800-1465669800@marcellusumc.org
SUMMARY:Movie and Fellowship Night for Kids age 4-12
DESCRIPTION:
URL:https://marcellusumc.org/index.php/event/movie-and-fellowship-night-for-kids-age-4-12/
END:VEVENT
BEGIN:VEVENT
DTSTART;TZID=America/New_York:20151124T190000
DTEND;TZID=America/New_York:20151124T210000
DTSTAMP:20260424T104559
CREATED:20151111T041200Z
LAST-MODIFIED:20151111T041240Z
UID:145-1448391600-1448398800@marcellusumc.org
SUMMARY:UMW Craft and Devotion Group
DESCRIPTION:Come and bring a friend!
URL:https://marcellusumc.org/index.php/event/umw-craft-and-devotion-group/
LOCATION:Lounge
CATEGORIES:UMW
END:VEVENT
END:VCALENDAR